BEGIN:VCALENDAR
VERSION:2.0
PRODID:Events Booking
BEGIN:VEVENT
UID:69e74d5616e89
SUMMARY:HEU NIGHTS
DESCRIPTION:
DTSTART:20260502T000000Z
DTSTAMP:20260415T132016Z
ORGANIZER;CN=Heuboden GmbH:MAILTO:vvk@heuboden.de
END:VEVENT
END:VCALENDAR