BEGIN:VCALENDAR
VERSION:2.0
PRODID:Events Booking
BEGIN:VEVENT
UID:69e6303f0bc30
SUMMARY:Silvester-Party ab 23.00 Uhr 
DESCRIPTION:Einlass zur Silvester-Party in die Heuboden Dancing Clubs ab 23
  Uhr inkl. Mitternachts-Buffet.
 &nbsp\;
LOCATION:Am Gansacker\, Umkirch\, 79224 Baden-Württemberg\, Deutschland
DTSTART:20231231T230000Z
DTEND:20231231T000000Z
DTSTAMP:20230426T133818Z
ORGANIZER;CN=Heuboden GmbH:MAILTO:vvk@heuboden.de
GEO:48.036711;7.762333
X-APPLE-STRUCTURED-LOCATION;VALUE=URI;X-ADDRESS=Am Gansacker\, Umkirch\, 79
 224 Baden-Württemberg\, Deutschland;X-APPLE-RADIUS=72;X-TITLE=Heuboden Gm
 bH:48.036711;7.762333
END:VEVENT
END:VCALENDAR